BEGIN:VCALENDAR
VERSION:2.0
PRODID:-//African Heritage Month - ECPv6.15.20//NONSGML v1.0//EN
CALSCALE:GREGORIAN
METHOD:PUBLISH
X-ORIGINAL-URL:https://www.ahm.bccnsweb.com/wp
X-WR-CALDESC:Events for African Heritage Month
REFRESH-INTERVAL;VALUE=DURATION:PT1H
X-Robots-Tag:noindex
X-PUBLISHED-TTL:PT1H
BEGIN:VTIMEZONE
TZID:America/Halifax
BEGIN:DAYLIGHT
TZOFFSETFROM:-0400
TZOFFSETTO:-0300
TZNAME:ADT
DTSTART:20220313T060000
END:DAYLIGHT
BEGIN:STANDARD
TZOFFSETFROM:-0300
TZOFFSETTO:-0400
TZNAME:AST
DTSTART:20221106T050000
END:STANDARD
BEGIN:DAYLIGHT
TZOFFSETFROM:-0400
TZOFFSETTO:-0300
TZNAME:ADT
DTSTART:20230312T060000
END:DAYLIGHT
BEGIN:STANDARD
TZOFFSETFROM:-0300
TZOFFSETTO:-0400
TZNAME:AST
DTSTART:20231105T050000
END:STANDARD
BEGIN:DAYLIGHT
TZOFFSETFROM:-0400
TZOFFSETTO:-0300
TZNAME:ADT
DTSTART:20240310T060000
END:DAYLIGHT
BEGIN:STANDARD
TZOFFSETFROM:-0300
TZOFFSETTO:-0400
TZNAME:AST
DTSTART:20241103T050000
END:STANDARD
END:VTIMEZONE
BEGIN:VEVENT
DTSTART;TZID=America/Halifax:20230126T190000
DTEND;TZID=America/Halifax:20230126T203000
DTSTAMP:20260420T042942
CREATED:20230118T021352Z
LAST-MODIFIED:20230118T021735Z
UID:891-1674759600-1674765000@www.ahm.bccnsweb.com
SUMMARY:African Heritage Month Opening Night Celebration
DESCRIPTION:TD presents African Heritage Month \n\n\n\nShare in the community celebration to help launch African Heritage Month 2023\, including: traditional ceremonies\, musical entertainment\, and special guests. \n\n\n\nThe theme for African Heritage Month 2023\, Seas of Struggle – African Peoples from Shore to Shore\, outlines the struggles people of African Descent faced from the shores of Africa to the shores of Nova Scotia\, recognizing that the one thing that has remained constant in our history is the Atlantic Ocean. \n\n\n\nThroughout the long-standing history of people of African Descent in the development of Canada\, the sea has played a vital role. This theme explores the struggle and adversity that was overcome\, and examines the effects of slavery and seafaring of African Nova Scotians. \n\n\n\nWatch Livestream: https://youtu.be/JKUbHWpA5-0
URL:https://www.ahm.bccnsweb.com/wp/event/african-heritage-month-opening-night-celebration/
LOCATION:Halifax North Memorial Public Library\, 2285 Gottingen Street\, Halifax\, NS\, B3K 3B6\, Canada
END:VEVENT
BEGIN:VEVENT
DTSTART;TZID=America/Halifax:20230127T120000
DTEND;TZID=America/Halifax:20230127T130000
DTSTAMP:20260420T042942
CREATED:20230119T133122Z
LAST-MODIFIED:20230119T133123Z
UID:925-1674820800-1674824400@www.ahm.bccnsweb.com
SUMMARY:2023 Cape Breton African Heritage Month Proclamation
DESCRIPTION:Annual Cape Breton African Heritage Month Proclamation. Event is open to Everyone. Cultural refreshments to be served.
URL:https://www.ahm.bccnsweb.com/wp/event/2023-cape-breton-african-heritage-month-proclamation/
LOCATION:Centre 200 (Upper Concourse)\, 481 George Street\, Sydney\, NS\, Canada
END:VEVENT
BEGIN:VEVENT
DTSTART;TZID=America/Halifax:20230128T190000
DTEND;TZID=America/Halifax:20230128T233000
DTSTAMP:20260420T042942
CREATED:20230119T133556Z
LAST-MODIFIED:20230119T133557Z
UID:931-1674932400-1674948600@www.ahm.bccnsweb.com
SUMMARY:2023 Cape Breton 15th Anniversary African Heritage Month Gala
DESCRIPTION:SOLD OUT!  \n\n\n\nCape Breton 15th Anniversary African Heritage Month Gala. Event: 19+3 course meal\, various African Nova Scotian Cultural Entertainers.
URL:https://www.ahm.bccnsweb.com/wp/event/2023-cape-breton-15th-anniversary-african-heritage-month-gala/
LOCATION:Membertou Centre\, 50 Maillard St\, Sydney
END:VEVENT
BEGIN:VEVENT
DTSTART;TZID=America/Halifax:20230130T093000
DTEND;TZID=America/Halifax:20230130T103000
DTSTAMP:20260420T042942
CREATED:20230127T140453Z
LAST-MODIFIED:20230127T140455Z
UID:1015-1675071000-1675074600@www.ahm.bccnsweb.com
SUMMARY:Halifax Flag Raising
DESCRIPTION:Attend an African Heritage Month flag raising and a special performance by Owen Lee at Grande Parade (weather permitting) before moving indoors to Halifax Hall for a proclamation reading by Deputy Mayor Austin and light refreshments.
URL:https://www.ahm.bccnsweb.com/wp/event/halifax-flag-raising/
LOCATION:Grand Parade Square\, 1790 Argyle Street\, Halifax\, B3J
ORGANIZER;CN="City of Halifax":MAILTO:diversity@halifax.ca
END:VEVENT
END:VCALENDAR